BEGIN:VCALENDAR
VERSION:2.0
PRODID:-//Parkview Event Center - ECPv6.8.3//NONSGML v1.0//EN
CALSCALE:GREGORIAN
METHOD:PUBLISH
X-WR-CALNAME:Parkview Event Center
X-ORIGINAL-URL:https://parkviewevc.com/site
X-WR-CALDESC:Events for Parkview Event Center
REFRESH-INTERVAL;VALUE=DURATION:PT1H
X-Robots-Tag:noindex
X-PUBLISHED-TTL:PT1H
BEGIN:VTIMEZONE
TZID:America/Chicago
BEGIN:DAYLIGHT
TZOFFSETFROM:-0600
TZOFFSETTO:-0500
TZNAME:CDT
DTSTART:20260308T080000
END:DAYLIGHT
BEGIN:STANDARD
TZOFFSETFROM:-0500
TZOFFSETTO:-0600
TZNAME:CST
DTSTART:20261101T070000
END:STANDARD
END:VTIMEZONE
BEGIN:VEVENT
DTSTART;TZID=America/Chicago:20260318T080000
DTEND;TZID=America/Chicago:20260318T120000
DTSTAMP:20260423T165602
CREATED:20260218T231831Z
LAST-MODIFIED:20260218T231831Z
UID:16216-1773820800-1773835200@parkviewevc.com
SUMMARY:ACT Testing
DESCRIPTION:
URL:https://parkviewevc.com/site/event/act-testing/
END:VEVENT
END:VCALENDAR