BEGIN:VCALENDAR
VERSION:2.0
PRODID:-//Parkview Event Center - ECPv6.8.3//NONSGML v1.0//EN
CALSCALE:GREGORIAN
METHOD:PUBLISH
X-ORIGINAL-URL:https://parkviewevc.com/site
X-WR-CALDESC:Events for Parkview Event Center
REFRESH-INTERVAL;VALUE=DURATION:PT1H
X-Robots-Tag:noindex
X-PUBLISHED-TTL:PT1H
BEGIN:VTIMEZONE
TZID:America/Chicago
BEGIN:DAYLIGHT
TZOFFSETFROM:-0600
TZOFFSETTO:-0500
TZNAME:CDT
DTSTART:20250309T080000
END:DAYLIGHT
BEGIN:STANDARD
TZOFFSETFROM:-0500
TZOFFSETTO:-0600
TZNAME:CST
DTSTART:20251102T070000
END:STANDARD
END:VTIMEZONE
BEGIN:VEVENT
DTSTART;VALUE=DATE:20250506
DTEND;VALUE=DATE:20250507
DTSTAMP:20260424T113752
CREATED:20241210T212316Z
LAST-MODIFIED:20241210T212316Z
UID:15953-1746489600-1746575999@parkviewevc.com
SUMMARY:SCCF Grant Luncheon
DESCRIPTION:
URL:https://parkviewevc.com/site/event/sccf-grant-luncheon/
LOCATION:Parkview Event Center\, 1303 10th Street\, Rock Valley\, IA\, 51247\, United States
CATEGORIES:Community
END:VEVENT
END:VCALENDAR