BEGIN:VCALENDAR
VERSION:2.0
PRODID:-//Parkview Event Center - ECPv6.8.3//NONSGML v1.0//EN
CALSCALE:GREGORIAN
METHOD:PUBLISH
X-ORIGINAL-URL:https://parkviewevc.com/site
X-WR-CALDESC:Events for Parkview Event Center
REFRESH-INTERVAL;VALUE=DURATION:PT1H
X-Robots-Tag:noindex
X-PUBLISHED-TTL:PT1H
BEGIN:VTIMEZONE
TZID:America/Chicago
BEGIN:DAYLIGHT
TZOFFSETFROM:-0600
TZOFFSETTO:-0500
TZNAME:CDT
DTSTART:20250309T080000
END:DAYLIGHT
BEGIN:STANDARD
TZOFFSETFROM:-0500
TZOFFSETTO:-0600
TZNAME:CST
DTSTART:20251102T070000
END:STANDARD
END:VTIMEZONE
BEGIN:VEVENT
DTSTART;VALUE=DATE:20251027
DTEND;VALUE=DATE:20251028
DTSTAMP:20260424T033930
CREATED:20251027T215400Z
LAST-MODIFIED:20251027T215400Z
UID:16137-1761523200-1761609599@parkviewevc.com
SUMMARY:Love Inc Fundraiser
DESCRIPTION:
URL:https://parkviewevc.com/site/event/love-inc-fundraiser-2/
CATEGORIES:Community
END:VEVENT
END:VCALENDAR