BEGIN:VCALENDAR
VERSION:2.0
PRODID:-//Parkview Event Center - ECPv6.8.3//NONSGML v1.0//EN
CALSCALE:GREGORIAN
METHOD:PUBLISH
X-WR-CALNAME:Parkview Event Center
X-ORIGINAL-URL:https://parkviewevc.com/site
X-WR-CALDESC:Events for Parkview Event Center
REFRESH-INTERVAL;VALUE=DURATION:PT1H
X-Robots-Tag:noindex
X-PUBLISHED-TTL:PT1H
BEGIN:VTIMEZONE
TZID:America/Chicago
BEGIN:DAYLIGHT
TZOFFSETFROM:-0600
TZOFFSETTO:-0500
TZNAME:CDT
DTSTART:20260308T080000
END:DAYLIGHT
BEGIN:STANDARD
TZOFFSETFROM:-0500
TZOFFSETTO:-0600
TZNAME:CST
DTSTART:20261101T070000
END:STANDARD
BEGIN:DAYLIGHT
TZOFFSETFROM:-0600
TZOFFSETTO:-0500
TZNAME:CDT
DTSTART:20270314T080000
END:DAYLIGHT
BEGIN:STANDARD
TZOFFSETFROM:-0500
TZOFFSETTO:-0600
TZNAME:CST
DTSTART:20271107T070000
END:STANDARD
END:VTIMEZONE
BEGIN:VEVENT
DTSTART;VALUE=DATE:20260731
DTEND;VALUE=DATE:20260802
DTSTAMP:20260423T164659
CREATED:20260218T232534Z
LAST-MODIFIED:20260218T232534Z
UID:16244-1785456000-1785628799@parkviewevc.com
SUMMARY:Abigail Quince
DESCRIPTION:
URL:https://parkviewevc.com/site/event/abigail-quince/
CATEGORIES:Birthday Event
END:VEVENT
BEGIN:VEVENT
DTSTART;VALUE=DATE:20260807
DTEND;VALUE=DATE:20260808
DTSTAMP:20260423T164659
CREATED:20260218T232713Z
LAST-MODIFIED:20260218T232713Z
UID:16248-1786060800-1786147199@parkviewevc.com
SUMMARY:Postma/Tiedeman Wedding
DESCRIPTION:
URL:https://parkviewevc.com/site/event/postma-tiedeman-wedding/
CATEGORIES:Wedding
END:VEVENT
BEGIN:VEVENT
DTSTART;VALUE=DATE:20260808
DTEND;VALUE=DATE:20260809
DTSTAMP:20260423T164659
CREATED:20260105T200814Z
LAST-MODIFIED:20260105T200814Z
UID:16200-1786147200-1786233599@parkviewevc.com
SUMMARY:Dulce Quince
DESCRIPTION:
URL:https://parkviewevc.com/site/event/dulce-quince/
CATEGORIES:Birthday Event
END:VEVENT
BEGIN:VEVENT
DTSTART;VALUE=DATE:20260813
DTEND;VALUE=DATE:20260815
DTSTAMP:20260423T164659
CREATED:20250508T145100Z
LAST-MODIFIED:20260105T195955Z
UID:16082-1786579200-1786751999@parkviewevc.com
SUMMARY:Wolfswinkel & Van't Hul Wedding
DESCRIPTION:
URL:https://parkviewevc.com/site/event/wolfswinkel-vant-hul-wedding/
LOCATION:Parkview Event Center\, 1303 10th Street\, Rock Valley\, IA\, 51247\, United States
CATEGORIES:Wedding
END:VEVENT
BEGIN:VEVENT
DTSTART;VALUE=DATE:20260815
DTEND;VALUE=DATE:20260816
DTSTAMP:20260423T164659
CREATED:20260218T232752Z
LAST-MODIFIED:20260218T232752Z
UID:16252-1786752000-1786838399@parkviewevc.com
SUMMARY:Kleepsies/Van't Hul Wedding
DESCRIPTION:
URL:https://parkviewevc.com/site/event/kleepsies-vant-hul-wedding/
CATEGORIES:Wedding
END:VEVENT
BEGIN:VEVENT
DTSTART;VALUE=DATE:20260905
DTEND;VALUE=DATE:20260906
DTSTAMP:20260423T164659
CREATED:20260218T232911Z
LAST-MODIFIED:20260218T232911Z
UID:16260-1788566400-1788652799@parkviewevc.com
SUMMARY:Vermeer/Thomford Wedding
DESCRIPTION:
URL:https://parkviewevc.com/site/event/vermeer-thomford-wedding/
CATEGORIES:Wedding
END:VEVENT
BEGIN:VEVENT
DTSTART;VALUE=DATE:20260911
DTEND;VALUE=DATE:20260913
DTSTAMP:20260423T164659
CREATED:20260105T200257Z
LAST-MODIFIED:20260105T200257Z
UID:16188-1789084800-1789257599@parkviewevc.com
SUMMARY:Doop/Van Meeteren Wedding
DESCRIPTION:
URL:https://parkviewevc.com/site/event/doop-van-meeteren-wedding-2/
CATEGORIES:Wedding
END:VEVENT
BEGIN:VEVENT
DTSTART;VALUE=DATE:20261003
DTEND;VALUE=DATE:20261004
DTSTAMP:20260423T164659
CREATED:20260218T232949Z
LAST-MODIFIED:20260218T232949Z
UID:16264-1790985600-1791071999@parkviewevc.com
SUMMARY:Brenda's Quince
DESCRIPTION:
URL:https://parkviewevc.com/site/event/brendas-quince/
CATEGORIES:Birthday Event
END:VEVENT
BEGIN:VEVENT
DTSTART;VALUE=DATE:20261105
DTEND;VALUE=DATE:20261106
DTSTAMP:20260423T164659
CREATED:20260218T233031Z
LAST-MODIFIED:20260218T233031Z
UID:16268-1793836800-1793923199@parkviewevc.com
SUMMARY:RV Business Gala
DESCRIPTION:
URL:https://parkviewevc.com/site/event/rv-business-gala/
CATEGORIES:Community
END:VEVENT
BEGIN:VEVENT
DTSTART;VALUE=DATE:20261113
DTEND;VALUE=DATE:20261114
DTSTAMP:20260423T164659
CREATED:20260218T233105Z
LAST-MODIFIED:20260218T233105Z
UID:16272-1794528000-1794614399@parkviewevc.com
SUMMARY:RV Spirit Club Auction
DESCRIPTION:
URL:https://parkviewevc.com/site/event/rv-spirit-club-auction/
CATEGORIES:Community
END:VEVENT
BEGIN:VEVENT
DTSTART;VALUE=DATE:20261205
DTEND;VALUE=DATE:20261206
DTSTAMP:20260423T164659
CREATED:20260105T200403Z
LAST-MODIFIED:20260105T200403Z
UID:16192-1796428800-1796515199@parkviewevc.com
SUMMARY:Peoples Bank Christmas
DESCRIPTION:
URL:https://parkviewevc.com/site/event/peoples-bank-christmas-2/
CATEGORIES:Private
END:VEVENT
BEGIN:VEVENT
DTSTART;VALUE=DATE:20261211
DTEND;VALUE=DATE:20261213
DTSTAMP:20260423T164659
CREATED:20260218T233149Z
LAST-MODIFIED:20260218T233149Z
UID:16276-1796947200-1797119999@parkviewevc.com
SUMMARY:Chamber Merry Little Market
DESCRIPTION:
URL:https://parkviewevc.com/site/event/chamber-merry-little-market/
CATEGORIES:Community
END:VEVENT
BEGIN:VEVENT
DTSTART;VALUE=DATE:20261218
DTEND;VALUE=DATE:20261219
DTSTAMP:20260423T164659
CREATED:20260105T200451Z
LAST-MODIFIED:20260105T200451Z
UID:16196-1797552000-1797638399@parkviewevc.com
SUMMARY:RV City Employee Appreciation
DESCRIPTION:
URL:https://parkviewevc.com/site/event/rv-city-employee-appreciation/
CATEGORIES:Private
END:VEVENT
BEGIN:VEVENT
DTSTART;VALUE=DATE:20261231
DTEND;VALUE=DATE:20270101
DTSTAMP:20260423T164659
CREATED:20230125T193850Z
LAST-MODIFIED:20240827T194142Z
UID:15238-1798675200-1798761599@parkviewevc.com
SUMMARY:End of year
DESCRIPTION:The end of the Year
URL:https://parkviewevc.com/site/event/end-of-year/
LOCATION:Parkview Event Center\, 1303 10th Street\, Rock Valley\, IA\, 51247\, United States
END:VEVENT
BEGIN:VEVENT
DTSTART;TZID=America/Chicago:20270508T080000
DTEND;TZID=America/Chicago:20270508T170000
DTSTAMP:20260423T164659
CREATED:20260218T233443Z
LAST-MODIFIED:20260218T233443Z
UID:16280-1809763200-1809795600@parkviewevc.com
SUMMARY:Vander Schaaf/Buyert Wedding
DESCRIPTION:
URL:https://parkviewevc.com/site/event/vander-schaaf-buyert-wedding/
CATEGORIES:Wedding
END:VEVENT
BEGIN:VEVENT
DTSTART;VALUE=DATE:20270522
DTEND;VALUE=DATE:20270523
DTSTAMP:20260423T164659
CREATED:20260218T233534Z
LAST-MODIFIED:20260218T233534Z
UID:16284-1810944000-1811030399@parkviewevc.com
SUMMARY:Wessels/Rypkema Wedding
DESCRIPTION:
URL:https://parkviewevc.com/site/event/wessels-rypkema-wedding/
CATEGORIES:Wedding
END:VEVENT
END:VCALENDAR